BEGIN:VCALENDAR
VERSION:2.0
BEGIN:VEVENT
DTSTART:2024-01-24T14:45+00:00
DTEND:2024-01-24T15:15+00:00
SUMMARY:Parents and Headteachers Coffee Afternoon Norton School Hall
DESCRIPTION:
LOCATION:
END:VEVENT
END:VCALENDAR
