BEGIN:VCALENDAR
VERSION:2.0
BEGIN:VEVENT
DTSTART:2024-03-28T08:00+00:00
DTEND:2024-03-28T16:00+00:00
SUMMARY:Deadline for entries to Easter Bonnet/Easter Garden Competition
DESCRIPTION:
LOCATION:
END:VEVENT
END:VCALENDAR
