BEGIN:VCALENDAR
VERSION:2.0
BEGIN:VEVENT
DTSTART:2024-03-11T08:00+00:00
DTEND:2024-03-11T16:00+00:00
SUMMARY:Easter Bonnet/Easter Garden Competition Launch
DESCRIPTION:
LOCATION:
END:VEVENT
END:VCALENDAR
